BEGIN:VCALENDAR
VERSION:2.0
PRODID:-//Photo Club de Lille - ECPv6.15.20//NONSGML v1.0//EN
CALSCALE:GREGORIAN
METHOD:PUBLISH
X-WR-CALNAME:Photo Club de Lille
X-ORIGINAL-URL:https://www.photoclublille.org
X-WR-CALDESC:Évènements pour Photo Club de Lille
REFRESH-INTERVAL;VALUE=DURATION:PT1H
X-Robots-Tag:noindex
X-PUBLISHED-TTL:PT1H
BEGIN:VTIMEZONE
TZID:Europe/Paris
BEGIN:DAYLIGHT
TZOFFSETFROM:+0100
TZOFFSETTO:+0200
TZNAME:CEST
DTSTART:20250330T010000
END:DAYLIGHT
BEGIN:STANDARD
TZOFFSETFROM:+0200
TZOFFSETTO:+0100
TZNAME:CET
DTSTART:20251026T010000
END:STANDARD
BEGIN:DAYLIGHT
TZOFFSETFROM:+0100
TZOFFSETTO:+0200
TZNAME:CEST
DTSTART:20260329T010000
END:DAYLIGHT
BEGIN:STANDARD
TZOFFSETFROM:+0200
TZOFFSETTO:+0100
TZNAME:CET
DTSTART:20261025T010000
END:STANDARD
BEGIN:DAYLIGHT
TZOFFSETFROM:+0100
TZOFFSETTO:+0200
TZNAME:CEST
DTSTART:20270328T010000
END:DAYLIGHT
BEGIN:STANDARD
TZOFFSETFROM:+0200
TZOFFSETTO:+0100
TZNAME:CET
DTSTART:20271031T010000
END:STANDARD
END:VTIMEZONE
BEGIN:VEVENT
DTSTART;VALUE=DATE:20260607
DTEND;VALUE=DATE:20260608
DTSTAMP:20260420T134455
CREATED:20260107T145430Z
LAST-MODIFIED:20260107T152105Z
UID:8491-1780790400-1780876799@www.photoclublille.org
SUMMARY:Sortie Photo au Jardin botanique de Meise
DESCRIPTION:Ce contenu est restreint aux comptes connectés uniquement. Veuillez vous connecter pour voir le contenu.
URL:https://www.photoclublille.org/event/sortie-photo-au-jardin-botanique-de-meise/
LOCATION:Extérieur
END:VEVENT
END:VCALENDAR