BEGIN:VCALENDAR
VERSION:2.0
PRODID:-//Photo Club de Lille - ECPv6.15.20//NONSGML v1.0//EN
CALSCALE:GREGORIAN
METHOD:PUBLISH
X-ORIGINAL-URL:https://www.photoclublille.org
X-WR-CALDESC:Évènements pour Photo Club de Lille
REFRESH-INTERVAL;VALUE=DURATION:PT1H
X-Robots-Tag:noindex
X-PUBLISHED-TTL:PT1H
BEGIN:VTIMEZONE
TZID:Europe/Paris
BEGIN:DAYLIGHT
TZOFFSETFROM:+0100
TZOFFSETTO:+0200
TZNAME:CEST
DTSTART:20250330T010000
END:DAYLIGHT
BEGIN:STANDARD
TZOFFSETFROM:+0200
TZOFFSETTO:+0100
TZNAME:CET
DTSTART:20251026T010000
END:STANDARD
BEGIN:DAYLIGHT
TZOFFSETFROM:+0100
TZOFFSETTO:+0200
TZNAME:CEST
DTSTART:20260329T010000
END:DAYLIGHT
BEGIN:STANDARD
TZOFFSETFROM:+0200
TZOFFSETTO:+0100
TZNAME:CET
DTSTART:20261025T010000
END:STANDARD
BEGIN:DAYLIGHT
TZOFFSETFROM:+0100
TZOFFSETTO:+0200
TZNAME:CEST
DTSTART:20270328T010000
END:DAYLIGHT
BEGIN:STANDARD
TZOFFSETFROM:+0200
TZOFFSETTO:+0100
TZNAME:CET
DTSTART:20271031T010000
END:STANDARD
END:VTIMEZONE
BEGIN:VEVENT
DTSTART;TZID=Europe/Paris:20260604T193000
DTEND;TZID=Europe/Paris:20260604T210000
DTSTAMP:20260420T123221
CREATED:20260107T150027Z
LAST-MODIFIED:20260107T150027Z
UID:8503-1780601400-1780606800@www.photoclublille.org
SUMMARY:Macro et proxi photo : L'infiniment petit et au-delà
DESCRIPTION:Ce contenu est restreint aux comptes connectés uniquement. Veuillez vous connecter pour voir le contenu.
URL:https://www.photoclublille.org/event/macro-et-proxi-photo-linfiniment-petit-et-au-dela/
LOCATION:Au local du Photo Club
END:VEVENT
BEGIN:VEVENT
DTSTART;VALUE=DATE:20260607
DTEND;VALUE=DATE:20260608
DTSTAMP:20260420T123221
CREATED:20260107T145430Z
LAST-MODIFIED:20260107T152105Z
UID:8491-1780790400-1780876799@www.photoclublille.org
SUMMARY:Sortie Photo au Jardin botanique de Meise
DESCRIPTION:Ce contenu est restreint aux comptes connectés uniquement. Veuillez vous connecter pour voir le contenu.
URL:https://www.photoclublille.org/event/sortie-photo-au-jardin-botanique-de-meise/
LOCATION:Extérieur
END:VEVENT
BEGIN:VEVENT
DTSTART;VALUE=DATE:20260611
DTEND;VALUE=DATE:20260612
DTSTAMP:20260420T123221
CREATED:20260107T150358Z
LAST-MODIFIED:20260107T150358Z
UID:8514-1781136000-1781222399@www.photoclublille.org
SUMMARY:Pas de séance\, demain c'est le vernissage de l'Expo 2026
DESCRIPTION:Ce contenu est restreint aux comptes connectés uniquement. Veuillez vous connecter pour voir le contenu.
URL:https://www.photoclublille.org/event/pas-de-seance-demain-cest-le-vernissage-de-lexpo-2026/
LOCATION:Nulle part
END:VEVENT
BEGIN:VEVENT
DTSTART;TZID=Europe/Paris:20260612T190000
DTEND;TZID=Europe/Paris:20260612T230000
DTSTAMP:20260420T123221
CREATED:20260107T150548Z
LAST-MODIFIED:20260107T153844Z
UID:8517-1781290800-1781305200@www.photoclublille.org
SUMMARY:Vernissage de l'EXPO 2026
DESCRIPTION:Ce contenu est restreint aux comptes connectés uniquement. Veuillez vous connecter pour voir le contenu.
URL:https://www.photoclublille.org/event/vernissage-de-lexpo-2026/
LOCATION:Salle Allende! Mons-en Baroeul\, Mons-en-Baroeul
END:VEVENT
BEGIN:VEVENT
DTSTART;TZID=Europe/Paris:20260618T193000
DTEND;TZID=Europe/Paris:20260618T210000
DTSTAMP:20260420T123221
CREATED:20260107T144123Z
LAST-MODIFIED:20260107T144123Z
UID:8496-1781811000-1781816400@www.photoclublille.org
SUMMARY:Brainstorming : des idées pour la prochaine saison ?
DESCRIPTION:Ce contenu est restreint aux comptes connectés uniquement. Veuillez vous connecter pour voir le contenu.
URL:https://www.photoclublille.org/event/brainstorming-des-idees-pour-la-prochaine-saison/
LOCATION:Au local du Photo Club
END:VEVENT
BEGIN:VEVENT
DTSTART;TZID=Europe/Paris:20260625T193000
DTEND;TZID=Europe/Paris:20260625T210000
DTSTAMP:20260420T123221
CREATED:20260107T150950Z
LAST-MODIFIED:20260107T150950Z
UID:8520-1782415800-1782421200@www.photoclublille.org
SUMMARY:Soirée résultats du Marathon
DESCRIPTION:Ce contenu est restreint aux comptes connectés uniquement. Veuillez vous connecter pour voir le contenu.
URL:https://www.photoclublille.org/event/soiree-resultats-du-marathon/
LOCATION:Extérieur
END:VEVENT
BEGIN:VEVENT
DTSTART;TZID=Europe/Paris:20260628T074500
DTEND;TZID=Europe/Paris:20260628T210000
DTSTAMP:20260420T123221
CREATED:20260210T170838Z
LAST-MODIFIED:20260326T111132Z
UID:8651-1782632700-1782680400@www.photoclublille.org
SUMMARY:Sortie photo à PARIS
DESCRIPTION:Ce contenu est restreint aux comptes connectés uniquement. Veuillez vous connecter pour voir le contenu.
URL:https://www.photoclublille.org/event/sortie-photo-a-paris/
LOCATION:Paris
CATEGORIES:Programme
END:VEVENT
END:VCALENDAR